BEGIN:VCALENDAR
VERSION:2.0
PRODID:-// - ECPv6.15.20//NONSGML v1.0//EN
CALSCALE:GREGORIAN
METHOD:PUBLISH
X-ORIGINAL-URL:https://chesapeakeconference.com
X-WR-CALDESC:Events for 
REFRESH-INTERVAL;VALUE=DURATION:PT1H
X-Robots-Tag:noindex
X-PUBLISHED-TTL:PT1H
BEGIN:VTIMEZONE
TZID:America/New_York
BEGIN:DAYLIGHT
TZOFFSETFROM:-0500
TZOFFSETTO:-0400
TZNAME:EDT
DTSTART:20250309T070000
END:DAYLIGHT
BEGIN:STANDARD
TZOFFSETFROM:-0400
TZOFFSETTO:-0500
TZNAME:EST
DTSTART:20251102T060000
END:STANDARD
BEGIN:DAYLIGHT
TZOFFSETFROM:-0500
TZOFFSETTO:-0400
TZNAME:EDT
DTSTART:20260308T070000
END:DAYLIGHT
BEGIN:STANDARD
TZOFFSETFROM:-0400
TZOFFSETTO:-0500
TZNAME:EST
DTSTART:20261101T060000
END:STANDARD
BEGIN:DAYLIGHT
TZOFFSETFROM:-0500
TZOFFSETTO:-0400
TZNAME:EDT
DTSTART:20270314T070000
END:DAYLIGHT
BEGIN:STANDARD
TZOFFSETFROM:-0400
TZOFFSETTO:-0500
TZNAME:EST
DTSTART:20271107T060000
END:STANDARD
END:VTIMEZONE
BEGIN:VEVENT
DTSTART;TZID=America/New_York:20260415T113000
DTEND;TZID=America/New_York:20260415T130000
DTSTAMP:20260424T102749
CREATED:20260304T203602Z
LAST-MODIFIED:20260304T203958Z
UID:17983-1776252600-1776258000@chesapeakeconference.com
SUMMARY:Chesapeake Rotary
DESCRIPTION:Speaker: Barrett Stork\, Virginia Natural Gas
URL:https://chesapeakeconference.com/event/chesapeake-rotary-191/
CATEGORIES:Special Group
ATTACH;FMTTYPE=image/png:https://chesapeakeconference.com/wp-content/uploads/2025/07/Rotary-Logo-Simplified.png
END:VEVENT
BEGIN:VEVENT
DTSTART;TZID=America/New_York:20260417T090000
DTEND;TZID=America/New_York:20260417T130000
DTSTAMP:20260424T102749
CREATED:20260325T154705Z
LAST-MODIFIED:20260325T154705Z
UID:18034-1776416400-1776430800@chesapeakeconference.com
SUMMARY:Private
DESCRIPTION:
URL:https://chesapeakeconference.com/event/private-97/
CATEGORIES:Private
END:VEVENT
BEGIN:VEVENT
DTSTART;TZID=America/New_York:20260418T080000
DTEND;TZID=America/New_York:20260418T130000
DTSTAMP:20260424T102749
CREATED:20260321T132724Z
LAST-MODIFIED:20260321T132724Z
UID:18019-1776499200-1776517200@chesapeakeconference.com
SUMMARY:The New Chesapeake Men For Progress 18th Annual Black Male Achievement and Scholarship Awards
DESCRIPTION:
URL:https://chesapeakeconference.com/event/the-new-chesapeake-men-for-progress-18th-annual-black-male-achievement-and-scholarship-awards/
ATTACH;FMTTYPE=image/jpeg:https://chesapeakeconference.com/wp-content/uploads/2026/03/New-Ches-Men-Apr2026.jpg
END:VEVENT
BEGIN:VEVENT
DTSTART;TZID=America/New_York:20260418T180000
DTEND;TZID=America/New_York:20260418T230000
DTSTAMP:20260424T102749
CREATED:20260325T155047Z
LAST-MODIFIED:20260325T155047Z
UID:18036-1776535200-1776553200@chesapeakeconference.com
SUMMARY:All In For Wishes Fundraiser
DESCRIPTION:
URL:https://chesapeakeconference.com/event/all-in-for-wishes-fundraiser/
CATEGORIES:Special Group
ATTACH;FMTTYPE=image/png:https://chesapeakeconference.com/wp-content/uploads/2026/03/All-In-for-Wishes-4.18.2026.png
END:VEVENT
BEGIN:VEVENT
DTSTART;TZID=America/New_York:20260422T113000
DTEND;TZID=America/New_York:20260422T130000
DTSTAMP:20260424T102749
CREATED:20260304T203823Z
LAST-MODIFIED:20260304T203823Z
UID:17986-1776857400-1776862800@chesapeakeconference.com
SUMMARY:Chesapeake Rotary
DESCRIPTION:Educational Support Staff of the Year Awards
URL:https://chesapeakeconference.com/event/chesapeake-rotary-192/
CATEGORIES:Special Group
ATTACH;FMTTYPE=image/png:https://chesapeakeconference.com/wp-content/uploads/2025/07/Rotary-Logo-Simplified.png
END:VEVENT
BEGIN:VEVENT
DTSTART;TZID=America/New_York:20260423T100000
DTEND;TZID=America/New_York:20260423T230000
DTSTAMP:20260424T102749
CREATED:20260325T155441Z
LAST-MODIFIED:20260325T155441Z
UID:18039-1776938400-1776985200@chesapeakeconference.com
SUMMARY:Endless Dance Convention
DESCRIPTION:
URL:https://chesapeakeconference.com/event/endless-dance-convention/
CATEGORIES:Special Group
ATTACH;FMTTYPE=image/jpeg:https://chesapeakeconference.com/wp-content/uploads/2026/03/Endless-Dance-Apr2026.jpg
END:VEVENT
BEGIN:VEVENT
DTSTART;TZID=America/New_York:20260424T100000
DTEND;TZID=America/New_York:20260424T230000
DTSTAMP:20260424T102749
CREATED:20260325T155729Z
LAST-MODIFIED:20260325T155833Z
UID:18042-1777024800-1777071600@chesapeakeconference.com
SUMMARY:Endless Dance Convention
DESCRIPTION:
URL:https://chesapeakeconference.com/event/endless-dance-convention-2/
CATEGORIES:Special Group
ATTACH;FMTTYPE=image/jpeg:https://chesapeakeconference.com/wp-content/uploads/2026/03/Endless-Dance-Apr2026.jpg
END:VEVENT
BEGIN:VEVENT
DTSTART;TZID=America/New_York:20260425T100000
DTEND;TZID=America/New_York:20260425T230000
DTSTAMP:20260424T102749
CREATED:20260325T155937Z
LAST-MODIFIED:20260325T155937Z
UID:18044-1777111200-1777158000@chesapeakeconference.com
SUMMARY:Endless Dance Convention
DESCRIPTION:
URL:https://chesapeakeconference.com/event/endless-dance-convention-3/
CATEGORIES:Special Group
ATTACH;FMTTYPE=image/jpeg:https://chesapeakeconference.com/wp-content/uploads/2026/03/Endless-Dance-Apr2026.jpg
END:VEVENT
BEGIN:VEVENT
DTSTART;TZID=America/New_York:20260426T100000
DTEND;TZID=America/New_York:20260426T230000
DTSTAMP:20260424T102749
CREATED:20260325T160049Z
LAST-MODIFIED:20260325T160049Z
UID:18043-1777197600-1777244400@chesapeakeconference.com
SUMMARY:Endless Dance Convention
DESCRIPTION:
URL:https://chesapeakeconference.com/event/endless-dance-convention-4/
CATEGORIES:Special Group
ATTACH;FMTTYPE=image/jpeg:https://chesapeakeconference.com/wp-content/uploads/2026/03/Endless-Dance-Apr2026.jpg
END:VEVENT
BEGIN:VEVENT
DTSTART;TZID=America/New_York:20260427T080000
DTEND;TZID=America/New_York:20260427T170000
DTSTAMP:20260424T102749
CREATED:20260325T160318Z
LAST-MODIFIED:20260325T160318Z
UID:18048-1777276800-1777309200@chesapeakeconference.com
SUMMARY:Virginia Virtual Academy
DESCRIPTION:
URL:https://chesapeakeconference.com/event/virginia-virtual-academy-6/
CATEGORIES:Special Group
END:VEVENT
BEGIN:VEVENT
DTSTART;TZID=America/New_York:20260428T080000
DTEND;TZID=America/New_York:20260428T170000
DTSTAMP:20260424T102749
CREATED:20260325T160509Z
LAST-MODIFIED:20260325T160509Z
UID:18050-1777363200-1777395600@chesapeakeconference.com
SUMMARY:Virginia Virtual Academy
DESCRIPTION:
URL:https://chesapeakeconference.com/event/virginia-virtual-academy-7/
CATEGORIES:Special Group
END:VEVENT
BEGIN:VEVENT
DTSTART;TZID=America/New_York:20260429T080000
DTEND;TZID=America/New_York:20260429T170000
DTSTAMP:20260424T102749
CREATED:20260325T160851Z
LAST-MODIFIED:20260325T160851Z
UID:18056-1777449600-1777482000@chesapeakeconference.com
SUMMARY:Virginia Virtual Academy
DESCRIPTION:
URL:https://chesapeakeconference.com/event/virginia-virtual-academy-10/
CATEGORIES:Special Group
END:VEVENT
BEGIN:VEVENT
DTSTART;TZID=America/New_York:20260430T070000
DTEND;TZID=America/New_York:20260430T160000
DTSTAMP:20260424T102749
CREATED:20260325T175502Z
LAST-MODIFIED:20260325T175502Z
UID:18074-1777532400-1777564800@chesapeakeconference.com
SUMMARY:Future Pathways – Chesapeake Public Schools
DESCRIPTION:
URL:https://chesapeakeconference.com/event/future-pathways-chesapeake-public-schools/
CATEGORIES:Special Group
END:VEVENT
BEGIN:VEVENT
DTSTART;TZID=America/New_York:20260430T080000
DTEND;TZID=America/New_York:20260430T170000
DTSTAMP:20260424T102749
CREATED:20260325T160611Z
LAST-MODIFIED:20260325T160611Z
UID:18052-1777536000-1777568400@chesapeakeconference.com
SUMMARY:Virginia Virtual Academy
DESCRIPTION:
URL:https://chesapeakeconference.com/event/virginia-virtual-academy-8/
CATEGORIES:Special Group
END:VEVENT
BEGIN:VEVENT
DTSTART;TZID=America/New_York:20260501T080000
DTEND;TZID=America/New_York:20260501T170000
DTSTAMP:20260424T102749
CREATED:20260325T160741Z
LAST-MODIFIED:20260325T160741Z
UID:18054-1777622400-1777654800@chesapeakeconference.com
SUMMARY:Virginia Virtual Academy
DESCRIPTION:
URL:https://chesapeakeconference.com/event/virginia-virtual-academy-9/
CATEGORIES:Special Group
END:VEVENT
BEGIN:VEVENT
DTSTART;TZID=America/New_York:20260501T190000
DTEND;TZID=America/New_York:20260501T230000
DTSTAMP:20260424T102749
CREATED:20260325T164223Z
LAST-MODIFIED:20260325T164223Z
UID:18058-1777662000-1777676400@chesapeakeconference.com
SUMMARY:Nansemond River High School Prom
DESCRIPTION:
URL:https://chesapeakeconference.com/event/nansemond-river-high-school-prom/
CATEGORIES:Special Group
END:VEVENT
BEGIN:VEVENT
DTSTART;TZID=America/New_York:20260502T080000
DTEND;TZID=America/New_York:20260502T150000
DTSTAMP:20260424T102749
CREATED:20260325T164418Z
LAST-MODIFIED:20260325T164418Z
UID:18060-1777708800-1777734000@chesapeakeconference.com
SUMMARY:Euphoria: A community Yoga Festival
DESCRIPTION:
URL:https://chesapeakeconference.com/event/euphoria-a-community-yoga-festival/
CATEGORIES:Special Group
END:VEVENT
BEGIN:VEVENT
DTSTART;TZID=America/New_York:20260504T080000
DTEND;TZID=America/New_York:20260504T170000
DTSTAMP:20260424T102749
CREATED:20260325T164540Z
LAST-MODIFIED:20260325T164540Z
UID:18062-1777881600-1777914000@chesapeakeconference.com
SUMMARY:Virginia Virtual Academy
DESCRIPTION:
URL:https://chesapeakeconference.com/event/virginia-virtual-academy-11/
CATEGORIES:Special Group
END:VEVENT
BEGIN:VEVENT
DTSTART;TZID=America/New_York:20260505T080000
DTEND;TZID=America/New_York:20260505T170000
DTSTAMP:20260424T102749
CREATED:20260325T174400Z
LAST-MODIFIED:20260325T174400Z
UID:18064-1777968000-1778000400@chesapeakeconference.com
SUMMARY:Virginia Virtual Academy
DESCRIPTION:
URL:https://chesapeakeconference.com/event/virginia-virtual-academy-12/
CATEGORIES:Special Group
END:VEVENT
BEGIN:VEVENT
DTSTART;TZID=America/New_York:20260506T080000
DTEND;TZID=America/New_York:20260506T170000
DTSTAMP:20260424T102749
CREATED:20260325T174653Z
LAST-MODIFIED:20260325T174653Z
UID:18065-1778054400-1778086800@chesapeakeconference.com
SUMMARY:Virginia Virtual Academy
DESCRIPTION:
URL:https://chesapeakeconference.com/event/virginia-virtual-academy-13/
CATEGORIES:Special Group
END:VEVENT
BEGIN:VEVENT
DTSTART;TZID=America/New_York:20260506T110000
DTEND;TZID=America/New_York:20260506T130000
DTSTAMP:20260424T102749
CREATED:20260325T175225Z
LAST-MODIFIED:20260325T175225Z
UID:18072-1778065200-1778072400@chesapeakeconference.com
SUMMARY:Chesapeake Rotary
DESCRIPTION:
URL:https://chesapeakeconference.com/event/chesapeake-rotary-193/
CATEGORIES:Special Group
ATTACH;FMTTYPE=image/png:https://chesapeakeconference.com/wp-content/uploads/2025/07/Rotary-Logo-Simplified.png
END:VEVENT
BEGIN:VEVENT
DTSTART;TZID=America/New_York:20260507T080000
DTEND;TZID=America/New_York:20260507T170000
DTSTAMP:20260424T102749
CREATED:20260325T174805Z
LAST-MODIFIED:20260325T174805Z
UID:18066-1778140800-1778173200@chesapeakeconference.com
SUMMARY:Virginia Virtual Academy
DESCRIPTION:
URL:https://chesapeakeconference.com/event/virginia-virtual-academy-14/
CATEGORIES:Special Group
END:VEVENT
BEGIN:VEVENT
DTSTART;TZID=America/New_York:20260508T080000
DTEND;TZID=America/New_York:20260508T170000
DTSTAMP:20260424T102749
CREATED:20260325T174915Z
LAST-MODIFIED:20260325T174915Z
UID:18067-1778227200-1778259600@chesapeakeconference.com
SUMMARY:Virginia Virtual Academy
DESCRIPTION:
URL:https://chesapeakeconference.com/event/virginia-virtual-academy-15/
CATEGORIES:Special Group
END:VEVENT
BEGIN:VEVENT
DTSTART;TZID=America/New_York:20260510T080000
DTEND;TZID=America/New_York:20260510T140000
DTSTAMP:20260424T102749
CREATED:20260401T171641Z
LAST-MODIFIED:20260401T171641Z
UID:18085-1778400000-1778421600@chesapeakeconference.com
SUMMARY:Private
DESCRIPTION:
URL:https://chesapeakeconference.com/event/private-98/
CATEGORIES:Private
END:VEVENT
BEGIN:VEVENT
DTSTART;TZID=America/New_York:20260511T080000
DTEND;TZID=America/New_York:20260511T170000
DTSTAMP:20260424T102749
CREATED:20260401T171911Z
LAST-MODIFIED:20260401T171911Z
UID:18087-1778486400-1778518800@chesapeakeconference.com
SUMMARY:Virginia Virtual Academy
DESCRIPTION:
URL:https://chesapeakeconference.com/event/virginia-virtual-academy-16/
CATEGORIES:Special Group
END:VEVENT
BEGIN:VEVENT
DTSTART;TZID=America/New_York:20260512T080000
DTEND;TZID=America/New_York:20260512T170000
DTSTAMP:20260424T102749
CREATED:20260413T163430Z
LAST-MODIFIED:20260413T163520Z
UID:18089-1778572800-1778605200@chesapeakeconference.com
SUMMARY:Virginia Virtual Academy
DESCRIPTION:
URL:https://chesapeakeconference.com/event/virginia-virtual-academy-17/
CATEGORIES:Special Group
END:VEVENT
BEGIN:VEVENT
DTSTART;TZID=America/New_York:20260513T080000
DTEND;TZID=America/New_York:20260513T113000
DTSTAMP:20260424T102749
CREATED:20260412T143732Z
LAST-MODIFIED:20260412T145025Z
UID:18099-1778659200-1778671800@chesapeakeconference.com
SUMMARY:THE SEVA WAY APPRECIATION AWARDS
DESCRIPTION:
URL:https://chesapeakeconference.com/event/the-seva-way-appreciation-awards/
CATEGORIES:Public,Special Group,Ticketed
ATTACH;FMTTYPE=image/jpeg:https://chesapeakeconference.com/wp-content/uploads/2026/04/IMG_1056.jpg
END:VEVENT
BEGIN:VEVENT
DTSTART;TZID=America/New_York:20260513T080000
DTEND;TZID=America/New_York:20260513T170000
DTSTAMP:20260424T102749
CREATED:20260413T164004Z
LAST-MODIFIED:20260413T164004Z
UID:18102-1778659200-1778691600@chesapeakeconference.com
SUMMARY:Virginia Virtual Academy
DESCRIPTION:
URL:https://chesapeakeconference.com/event/virginia-virtual-academy-18/
CATEGORIES:Special Group
END:VEVENT
BEGIN:VEVENT
DTSTART;TZID=America/New_York:20260514T080000
DTEND;TZID=America/New_York:20260514T170000
DTSTAMP:20260424T102749
CREATED:20260413T165008Z
LAST-MODIFIED:20260413T165008Z
UID:18104-1778745600-1778778000@chesapeakeconference.com
SUMMARY:Virginia Virtual Academy
DESCRIPTION:
URL:https://chesapeakeconference.com/event/virginia-virtual-academy-19/
CATEGORIES:Special Group
END:VEVENT
BEGIN:VEVENT
DTSTART;TZID=America/New_York:20260515T080000
DTEND;TZID=America/New_York:20260515T170000
DTSTAMP:20260424T102749
CREATED:20260413T165239Z
LAST-MODIFIED:20260413T165239Z
UID:18103-1778832000-1778864400@chesapeakeconference.com
SUMMARY:Virginia Virtual Academy
DESCRIPTION:
URL:https://chesapeakeconference.com/event/virginia-virtual-academy-20/
CATEGORIES:Special Group
END:VEVENT
END:VCALENDAR