BEGIN:VCALENDAR
VERSION:2.0
PRODID:-// - ECPv6.15.20//NONSGML v1.0//EN
CALSCALE:GREGORIAN
METHOD:PUBLISH
X-ORIGINAL-URL:https://chesapeakeconference.com
X-WR-CALDESC:Events for 
REFRESH-INTERVAL;VALUE=DURATION:PT1H
X-Robots-Tag:noindex
X-PUBLISHED-TTL:PT1H
BEGIN:VTIMEZONE
TZID:America/New_York
BEGIN:DAYLIGHT
TZOFFSETFROM:-0500
TZOFFSETTO:-0400
TZNAME:EDT
DTSTART:20250309T070000
END:DAYLIGHT
BEGIN:STANDARD
TZOFFSETFROM:-0400
TZOFFSETTO:-0500
TZNAME:EST
DTSTART:20251102T060000
END:STANDARD
BEGIN:DAYLIGHT
TZOFFSETFROM:-0500
TZOFFSETTO:-0400
TZNAME:EDT
DTSTART:20260308T070000
END:DAYLIGHT
BEGIN:STANDARD
TZOFFSETFROM:-0400
TZOFFSETTO:-0500
TZNAME:EST
DTSTART:20261101T060000
END:STANDARD
BEGIN:DAYLIGHT
TZOFFSETFROM:-0500
TZOFFSETTO:-0400
TZNAME:EDT
DTSTART:20270314T070000
END:DAYLIGHT
BEGIN:STANDARD
TZOFFSETFROM:-0400
TZOFFSETTO:-0500
TZNAME:EST
DTSTART:20271107T060000
END:STANDARD
END:VTIMEZONE
BEGIN:VEVENT
DTSTART;TZID=America/New_York:20260320T180000
DTEND;TZID=America/New_York:20260320T230000
DTSTAMP:20260424T152143
CREATED:20260210T195617Z
LAST-MODIFIED:20260210T195617Z
UID:17929-1774029600-1774047600@chesapeakeconference.com
SUMMARY:Private
DESCRIPTION:
URL:https://chesapeakeconference.com/event/private-92/
CATEGORIES:Private
END:VEVENT
BEGIN:VEVENT
DTSTART;TZID=America/New_York:20260320T080000
DTEND;TZID=America/New_York:20260320T170000
DTSTAMP:20260424T152143
CREATED:20260210T195304Z
LAST-MODIFIED:20260210T195304Z
UID:17925-1773993600-1774026000@chesapeakeconference.com
SUMMARY:Virginia Virtual Academy
DESCRIPTION:
URL:https://chesapeakeconference.com/event/virginia-virtual-academy-5/
CATEGORIES:Special Group
END:VEVENT
BEGIN:VEVENT
DTSTART;TZID=America/New_York:20260319T080000
DTEND;TZID=America/New_York:20260319T170000
DTSTAMP:20260424T152143
CREATED:20260210T195217Z
LAST-MODIFIED:20260210T195217Z
UID:17923-1773907200-1773939600@chesapeakeconference.com
SUMMARY:Virginia Virtual Academy
DESCRIPTION:
URL:https://chesapeakeconference.com/event/virginia-virtual-academy-4/
CATEGORIES:Special Group
END:VEVENT
BEGIN:VEVENT
DTSTART;TZID=America/New_York:20260318T113000
DTEND;TZID=America/New_York:20260318T140000
DTSTAMP:20260424T152143
CREATED:20260210T195432Z
LAST-MODIFIED:20260210T195432Z
UID:17927-1773833400-1773842400@chesapeakeconference.com
SUMMARY:Chesapeake Rotary
DESCRIPTION:
URL:https://chesapeakeconference.com/event/chesapeake-rotary-188/
CATEGORIES:Special Group
ATTACH;FMTTYPE=image/png:https://chesapeakeconference.com/wp-content/uploads/2025/07/Rotary-Logo-Simplified.png
END:VEVENT
BEGIN:VEVENT
DTSTART;TZID=America/New_York:20260318T080000
DTEND;TZID=America/New_York:20260318T170000
DTSTAMP:20260424T152143
CREATED:20260210T195122Z
LAST-MODIFIED:20260210T195122Z
UID:17921-1773820800-1773853200@chesapeakeconference.com
SUMMARY:Virginia Virtual Academy
DESCRIPTION:
URL:https://chesapeakeconference.com/event/virginia-virtual-academy-3/
CATEGORIES:Special Group
END:VEVENT
BEGIN:VEVENT
DTSTART;TZID=America/New_York:20260317T080000
DTEND;TZID=America/New_York:20260317T170000
DTSTAMP:20260424T152143
CREATED:20260210T195042Z
LAST-MODIFIED:20260210T195042Z
UID:17919-1773734400-1773766800@chesapeakeconference.com
SUMMARY:Virginia Virtual Academy
DESCRIPTION:
URL:https://chesapeakeconference.com/event/virginia-virtual-academy-2/
CATEGORIES:Special Group
END:VEVENT
BEGIN:VEVENT
DTSTART;TZID=America/New_York:20260316T080000
DTEND;TZID=America/New_York:20260316T170000
DTSTAMP:20260424T152143
CREATED:20260210T194954Z
LAST-MODIFIED:20260210T194954Z
UID:17917-1773648000-1773680400@chesapeakeconference.com
SUMMARY:Virginia Virtual Academy
DESCRIPTION:
URL:https://chesapeakeconference.com/event/virginia-virtual-academy/
CATEGORIES:Special Group
END:VEVENT
BEGIN:VEVENT
DTSTART;TZID=America/New_York:20260312T180000
DTEND;TZID=America/New_York:20260312T210000
DTSTAMP:20260424T152143
CREATED:20251113T151558Z
LAST-MODIFIED:20251113T151558Z
UID:17706-1773338400-1773349200@chesapeakeconference.com
SUMMARY:Chesapeake Sports Club 13th Annual JAMBOREE
DESCRIPTION:Chesapeake Sports Club 13th Annual JAMBOREE \nKeynote Speaker – DARRELL GREEN \nWashington Commanders 1983-2002\, 2008 Pro Football Hall of Fame Inductee\, and 2x Super Bowl Champion \n 
URL:https://chesapeakeconference.com/event/chesapeake-sports-club-13th-annual-jamboree/
CATEGORIES:Featured,Public,Special Group,Ticketed
ATTACH;FMTTYPE=application/pdf:https://chesapeakeconference.com/wp-content/uploads/2025/11/doc03387320251112135914.pdf
END:VEVENT
BEGIN:VEVENT
DTSTART;TZID=America/New_York:20260311T113000
DTEND;TZID=America/New_York:20260311T140000
DTSTAMP:20260424T152143
CREATED:20260210T194848Z
LAST-MODIFIED:20260210T194848Z
UID:17915-1773228600-1773237600@chesapeakeconference.com
SUMMARY:Chesapeake Rotary
DESCRIPTION:
URL:https://chesapeakeconference.com/event/chesapeake-rotary-187/
CATEGORIES:Special Group
ATTACH;FMTTYPE=image/png:https://chesapeakeconference.com/wp-content/uploads/2025/07/Rotary-Logo-Simplified.png
END:VEVENT
BEGIN:VEVENT
DTSTART;TZID=America/New_York:20260309T113000
DTEND;TZID=America/New_York:20260309T140000
DTSTAMP:20260424T152143
CREATED:20260210T194714Z
LAST-MODIFIED:20260210T194714Z
UID:17913-1773055800-1773064800@chesapeakeconference.com
SUMMARY:Chesapeake Sports Club
DESCRIPTION:
URL:https://chesapeakeconference.com/event/chesapeake-sports-club-49/
CATEGORIES:Special Group
ATTACH;FMTTYPE=image/png:https://chesapeakeconference.com/wp-content/uploads/2017/07/Chesapeake-Sports-Club-2017-logocsc_balls.png
END:VEVENT
BEGIN:VEVENT
DTSTART;TZID=America/New_York:20260308T153000
DTEND;TZID=America/New_York:20260308T213000
DTSTAMP:20260424T152143
CREATED:20260112T191652Z
LAST-MODIFIED:20260112T192856Z
UID:17827-1772983800-1773005400@chesapeakeconference.com
SUMMARY:2026 Chesapeake Abilities Pageant
DESCRIPTION:
URL:https://chesapeakeconference.com/event/2026-chesapeake-abilities-pageant/
CATEGORIES:Public
ATTACH;FMTTYPE=application/pdf:https://chesapeakeconference.com/wp-content/uploads/2026/01/Miss-and-Mr-Abilities-2026-Flyer-2.pdf
END:VEVENT
BEGIN:VEVENT
DTSTART;TZID=America/New_York:20260307T180000
DTEND;TZID=America/New_York:20260307T213000
DTSTAMP:20260424T152143
CREATED:20260126T190408Z
LAST-MODIFIED:20260126T192408Z
UID:17862-1772906400-1772919000@chesapeakeconference.com
SUMMARY:Women of the Year Awards Dinner
DESCRIPTION:Hampton Roads Chamber – Women’s Division will honor Councilwoman Patricia A. King\, MD
URL:https://chesapeakeconference.com/event/women-of-the-year-awards-dinner/
CATEGORIES:Special Group,Ticketed
ATTACH;FMTTYPE=image/jpeg:https://chesapeakeconference.com/wp-content/uploads/2026/01/Screenshot-2026-01-26-141929.jpg
END:VEVENT
BEGIN:VEVENT
DTSTART;TZID=America/New_York:20260304T113000
DTEND;TZID=America/New_York:20260304T140000
DTSTAMP:20260424T152143
CREATED:20260210T194455Z
LAST-MODIFIED:20260210T194455Z
UID:17911-1772623800-1772632800@chesapeakeconference.com
SUMMARY:Chesapeake Rotary
DESCRIPTION:
URL:https://chesapeakeconference.com/event/chesapeake-rotary-186/
CATEGORIES:Special Group
ATTACH;FMTTYPE=image/png:https://chesapeakeconference.com/wp-content/uploads/2025/07/Rotary-Logo-Simplified.png
END:VEVENT
BEGIN:VEVENT
DTSTART;TZID=America/New_York:20260301T070000
DTEND;TZID=America/New_York:20260301T200000
DTSTAMP:20260424T152143
CREATED:20260210T193959Z
LAST-MODIFIED:20260210T193959Z
UID:17909-1772348400-1772395200@chesapeakeconference.com
SUMMARY:ID Dance Competition
DESCRIPTION:
URL:https://chesapeakeconference.com/event/id-dance-competition-3/
CATEGORIES:Special Group
END:VEVENT
BEGIN:VEVENT
DTSTART;TZID=America/New_York:20260228T070000
DTEND;TZID=America/New_York:20260228T230000
DTSTAMP:20260424T152143
CREATED:20260210T193840Z
LAST-MODIFIED:20260210T193840Z
UID:17907-1772262000-1772319600@chesapeakeconference.com
SUMMARY:ID Dance Competition
DESCRIPTION:
URL:https://chesapeakeconference.com/event/id-dance-competition-2/
CATEGORIES:Special Group
END:VEVENT
BEGIN:VEVENT
DTSTART;TZID=America/New_York:20260227T100000
DTEND;TZID=America/New_York:20260227T230000
DTSTAMP:20260424T152143
CREATED:20260210T193650Z
LAST-MODIFIED:20260210T193650Z
UID:17905-1772186400-1772233200@chesapeakeconference.com
SUMMARY:ID Dance Competition
DESCRIPTION:
URL:https://chesapeakeconference.com/event/id-dance-competition/
CATEGORIES:Special Group
END:VEVENT
BEGIN:VEVENT
DTSTART;TZID=America/New_York:20260225T113000
DTEND;TZID=America/New_York:20260225T130000
DTSTAMP:20260424T152143
CREATED:20260108T173109Z
LAST-MODIFIED:20260108T173109Z
UID:17819-1772019000-1772024400@chesapeakeconference.com
SUMMARY:Chesapeake Rotary
DESCRIPTION:Speaker: Molly MacDonald\, Mercy Chef’s Volunteer Manager
URL:https://chesapeakeconference.com/event/chesapeake-rotary-185/
CATEGORIES:Special Group
ATTACH;FMTTYPE=image/png:https://chesapeakeconference.com/wp-content/uploads/2025/07/Rotary-Logo-Simplified.png
END:VEVENT
BEGIN:VEVENT
DTSTART;TZID=America/New_York:20260225T090000
DTEND;TZID=America/New_York:20260225T140000
DTSTAMP:20260424T152143
CREATED:20260210T193426Z
LAST-MODIFIED:20260210T193426Z
UID:17903-1772010000-1772028000@chesapeakeconference.com
SUMMARY:Virginia Housing
DESCRIPTION:
URL:https://chesapeakeconference.com/event/virginia-housing/
CATEGORIES:Special Group
END:VEVENT
BEGIN:VEVENT
DTSTART;TZID=America/New_York:20260224T160000
DTEND;TZID=America/New_York:20260224T230000
DTSTAMP:20260424T152143
CREATED:20260210T190257Z
LAST-MODIFIED:20260210T190257Z
UID:17901-1771948800-1771974000@chesapeakeconference.com
SUMMARY:Private
DESCRIPTION:
URL:https://chesapeakeconference.com/event/private-91/
CATEGORIES:Private
END:VEVENT
BEGIN:VEVENT
DTSTART;TZID=America/New_York:20260224T110000
DTEND;TZID=America/New_York:20260224T150000
DTSTAMP:20260424T152143
CREATED:20260128T142117Z
LAST-MODIFIED:20260128T142117Z
UID:17869-1771930800-1771945200@chesapeakeconference.com
SUMMARY:Tidewater Job Fair
DESCRIPTION:
URL:https://chesapeakeconference.com/event/tidewater-job-fair-5/
CATEGORIES:Public
ATTACH;FMTTYPE=image/jpeg:https://chesapeakeconference.com/wp-content/uploads/2026/01/Tidewater-Job-Fair-2026.jpg
END:VEVENT
BEGIN:VEVENT
DTSTART;TZID=America/New_York:20260222T150000
DTEND;TZID=America/New_York:20260222T210000
DTSTAMP:20260424T152143
CREATED:20260116T183932Z
LAST-MODIFIED:20260116T183932Z
UID:17846-1771772400-1771794000@chesapeakeconference.com
SUMMARY:Rev. Brenda Boone Smith Productions Present Black History Concert
DESCRIPTION:Contact groups for tickets
URL:https://chesapeakeconference.com/event/rev-brenda-boone-smith-productions-present-black-history-concert/
CATEGORIES:Public,Ticketed
ATTACH;FMTTYPE=image/jpeg:https://chesapeakeconference.com/wp-content/uploads/2026/01/1380931156613620277.jpeg
END:VEVENT
BEGIN:VEVENT
DTSTART;TZID=America/New_York:20260221T170000
DTEND;TZID=America/New_York:20260221T210000
DTSTAMP:20260424T152143
CREATED:20260114T144757Z
LAST-MODIFIED:20260114T145410Z
UID:17836-1771693200-1771707600@chesapeakeconference.com
SUMMARY:Chesapeake Rotary Galantine’s Gala
DESCRIPTION:To purchase tickets –> https://www.galentines-hr.com/
URL:https://chesapeakeconference.com/event/chesapeake-rotary-galantines-gala/
CATEGORIES:Special Group,Ticketed
ATTACH;FMTTYPE=image/jpeg:https://chesapeakeconference.com/wp-content/uploads/2026/01/unnamed-4.jpg
END:VEVENT
BEGIN:VEVENT
DTSTART;TZID=America/New_York:20260221T053000
DTEND;TZID=America/New_York:20260221T220000
DTSTAMP:20260424T152143
CREATED:20260112T193623Z
LAST-MODIFIED:20260112T193839Z
UID:17831-1771651800-1771711200@chesapeakeconference.com
SUMMARY:Montero Medical Missions Gala
DESCRIPTION:
URL:https://chesapeakeconference.com/event/montero-medical-missions-gala-3/
CATEGORIES:Public
ATTACH;FMTTYPE=image/jpeg:https://chesapeakeconference.com/wp-content/uploads/2026/01/IMG_4595-1.jpeg
END:VEVENT
BEGIN:VEVENT
DTSTART;TZID=America/New_York:20260220T183000
DTEND;TZID=America/New_York:20260220T223000
DTSTAMP:20260424T152143
CREATED:20260210T190022Z
LAST-MODIFIED:20260210T190022Z
UID:17899-1771612200-1771626600@chesapeakeconference.com
SUMMARY:Private
DESCRIPTION:
URL:https://chesapeakeconference.com/event/private-90/
CATEGORIES:Private,Special Group
END:VEVENT
BEGIN:VEVENT
DTSTART;TZID=America/New_York:20260219T140000
DTEND;TZID=America/New_York:20260219T180000
DTSTAMP:20260424T152143
CREATED:20260210T185840Z
LAST-MODIFIED:20260210T185840Z
UID:17897-1771509600-1771524000@chesapeakeconference.com
SUMMARY:Private
DESCRIPTION:
URL:https://chesapeakeconference.com/event/private-89/
CATEGORIES:Private
END:VEVENT
BEGIN:VEVENT
DTSTART;TZID=America/New_York:20260218T113000
DTEND;TZID=America/New_York:20260218T130000
DTSTAMP:20260424T152143
CREATED:20260108T172813Z
LAST-MODIFIED:20260108T172813Z
UID:17818-1771414200-1771419600@chesapeakeconference.com
SUMMARY:Chesapeake Rotary
DESCRIPTION:Speaker: Cory McCoy\, Owner/CEO Oasis Health Group
URL:https://chesapeakeconference.com/event/chesapeake-rotary-184/
CATEGORIES:Special Group
ATTACH;FMTTYPE=image/png:https://chesapeakeconference.com/wp-content/uploads/2025/07/Rotary-Logo-Simplified.png
END:VEVENT
BEGIN:VEVENT
DTSTART;TZID=America/New_York:20260218T080000
DTEND;TZID=America/New_York:20260218T130000
DTSTAMP:20260424T152143
CREATED:20260210T185626Z
LAST-MODIFIED:20260210T185626Z
UID:17895-1771401600-1771419600@chesapeakeconference.com
SUMMARY:Club Wealth – Private
DESCRIPTION:
URL:https://chesapeakeconference.com/event/club-wealth-private/
CATEGORIES:Public,Special Group
END:VEVENT
BEGIN:VEVENT
DTSTART;TZID=America/New_York:20260215T130000
DTEND;TZID=America/New_York:20260215T163000
DTSTAMP:20260424T152143
CREATED:20250813T141750Z
LAST-MODIFIED:20250814T164657Z
UID:17569-1771160400-1771173000@chesapeakeconference.com
SUMMARY:Princess Ball
DESCRIPTION:Step into a magical evening where elegance meets heartwarming memories. The Chesapeake Conference Center is proud to host its highly anticipated Princess Ball\, a signature celebration of the extraordinary bond between fathers and daughters. \nThis year\, we honor princesses of all ages. Whether you remember twirling on your father’s feet as a little girl or now cherish those rare moments dancing together as an adult\, this event is your chance to create memories that last a lifetime. \nUnder sparkling lights\, to the sound of enchanting music\, discover the princess within while celebrating the irreplaceable connection you share. This is more than a dance; it’s a tradition\, a keepsake moment\, and an event you’ll treasure forever. \n Early Bird Tickets are limited\, and this beloved event sells out every year; secure yours today and be part of the magic!
URL:https://chesapeakeconference.com/event/annual-princess-ball/
CATEGORIES:Public,Ticketed
ATTACH;FMTTYPE=image/png:https://chesapeakeconference.com/wp-content/uploads/2025/08/Ticket-Master-Princess-Ball.png
END:VEVENT
BEGIN:VEVENT
DTSTART;TZID=America/New_York:20260214T130000
DTEND;TZID=America/New_York:20260214T160000
DTSTAMP:20260424T152143
CREATED:20260120T201447Z
LAST-MODIFIED:20260129T145638Z
UID:17850-1771074000-1771084800@chesapeakeconference.com
SUMMARY:PINGO – Handbag Bingo
DESCRIPTION:PINGO – All proceeds will benefit Children’s Hospital of The Kings Daughters
URL:https://chesapeakeconference.com/event/pingo-handbag-bingo/
CATEGORIES:Public,Special Group
ATTACH;FMTTYPE=image/jpeg:https://chesapeakeconference.com/wp-content/uploads/2026/01/Pingo-Event-2026.jpg
END:VEVENT
BEGIN:VEVENT
DTSTART;TZID=America/New_York:20260211T113000
DTEND;TZID=America/New_York:20260211T130000
DTSTAMP:20260424T152143
CREATED:20260108T172601Z
LAST-MODIFIED:20260108T172601Z
UID:17817-1770809400-1770814800@chesapeakeconference.com
SUMMARY:Chesapeake Rotary
DESCRIPTION:Speaker – Eric Skeeter. Topic – Empathy and Soft Skills
URL:https://chesapeakeconference.com/event/chesapeake-rotary-183/
CATEGORIES:Special Group
ATTACH;FMTTYPE=image/png:https://chesapeakeconference.com/wp-content/uploads/2025/07/Rotary-Logo-Simplified.png
END:VEVENT
END:VCALENDAR