BEGIN:VCALENDAR
VERSION:2.0
PRODID:-// - ECPv6.15.20//NONSGML v1.0//EN
CALSCALE:GREGORIAN
METHOD:PUBLISH
X-ORIGINAL-URL:https://chesapeakeconference.com
X-WR-CALDESC:Events for 
REFRESH-INTERVAL;VALUE=DURATION:PT1H
X-Robots-Tag:noindex
X-PUBLISHED-TTL:PT1H
BEGIN:VTIMEZONE
TZID:America/New_York
BEGIN:DAYLIGHT
TZOFFSETFROM:-0500
TZOFFSETTO:-0400
TZNAME:EDT
DTSTART:20250309T070000
END:DAYLIGHT
BEGIN:STANDARD
TZOFFSETFROM:-0400
TZOFFSETTO:-0500
TZNAME:EST
DTSTART:20251102T060000
END:STANDARD
BEGIN:DAYLIGHT
TZOFFSETFROM:-0500
TZOFFSETTO:-0400
TZNAME:EDT
DTSTART:20260308T070000
END:DAYLIGHT
BEGIN:STANDARD
TZOFFSETFROM:-0400
TZOFFSETTO:-0500
TZNAME:EST
DTSTART:20261101T060000
END:STANDARD
BEGIN:DAYLIGHT
TZOFFSETFROM:-0500
TZOFFSETTO:-0400
TZNAME:EDT
DTSTART:20270314T070000
END:DAYLIGHT
BEGIN:STANDARD
TZOFFSETFROM:-0400
TZOFFSETTO:-0500
TZNAME:EST
DTSTART:20271107T060000
END:STANDARD
END:VTIMEZONE
BEGIN:VEVENT
DTSTART;TZID=America/New_York:20260220T183000
DTEND;TZID=America/New_York:20260220T223000
DTSTAMP:20260424T181520
CREATED:20260210T190022Z
LAST-MODIFIED:20260210T190022Z
UID:17899-1771612200-1771626600@chesapeakeconference.com
SUMMARY:Private
DESCRIPTION:
URL:https://chesapeakeconference.com/event/private-90/
CATEGORIES:Private,Special Group
END:VEVENT
BEGIN:VEVENT
DTSTART;TZID=America/New_York:20260219T140000
DTEND;TZID=America/New_York:20260219T180000
DTSTAMP:20260424T181520
CREATED:20260210T185840Z
LAST-MODIFIED:20260210T185840Z
UID:17897-1771509600-1771524000@chesapeakeconference.com
SUMMARY:Private
DESCRIPTION:
URL:https://chesapeakeconference.com/event/private-89/
CATEGORIES:Private
END:VEVENT
BEGIN:VEVENT
DTSTART;TZID=America/New_York:20260218T113000
DTEND;TZID=America/New_York:20260218T130000
DTSTAMP:20260424T181520
CREATED:20260108T172813Z
LAST-MODIFIED:20260108T172813Z
UID:17818-1771414200-1771419600@chesapeakeconference.com
SUMMARY:Chesapeake Rotary
DESCRIPTION:Speaker: Cory McCoy\, Owner/CEO Oasis Health Group
URL:https://chesapeakeconference.com/event/chesapeake-rotary-184/
CATEGORIES:Special Group
ATTACH;FMTTYPE=image/png:https://chesapeakeconference.com/wp-content/uploads/2025/07/Rotary-Logo-Simplified.png
END:VEVENT
BEGIN:VEVENT
DTSTART;TZID=America/New_York:20260218T080000
DTEND;TZID=America/New_York:20260218T130000
DTSTAMP:20260424T181520
CREATED:20260210T185626Z
LAST-MODIFIED:20260210T185626Z
UID:17895-1771401600-1771419600@chesapeakeconference.com
SUMMARY:Club Wealth – Private
DESCRIPTION:
URL:https://chesapeakeconference.com/event/club-wealth-private/
CATEGORIES:Public,Special Group
END:VEVENT
BEGIN:VEVENT
DTSTART;TZID=America/New_York:20260215T130000
DTEND;TZID=America/New_York:20260215T163000
DTSTAMP:20260424T181520
CREATED:20250813T141750Z
LAST-MODIFIED:20250814T164657Z
UID:17569-1771160400-1771173000@chesapeakeconference.com
SUMMARY:Princess Ball
DESCRIPTION:Step into a magical evening where elegance meets heartwarming memories. The Chesapeake Conference Center is proud to host its highly anticipated Princess Ball\, a signature celebration of the extraordinary bond between fathers and daughters. \nThis year\, we honor princesses of all ages. Whether you remember twirling on your father’s feet as a little girl or now cherish those rare moments dancing together as an adult\, this event is your chance to create memories that last a lifetime. \nUnder sparkling lights\, to the sound of enchanting music\, discover the princess within while celebrating the irreplaceable connection you share. This is more than a dance; it’s a tradition\, a keepsake moment\, and an event you’ll treasure forever. \n Early Bird Tickets are limited\, and this beloved event sells out every year; secure yours today and be part of the magic!
URL:https://chesapeakeconference.com/event/annual-princess-ball/
CATEGORIES:Public,Ticketed
ATTACH;FMTTYPE=image/png:https://chesapeakeconference.com/wp-content/uploads/2025/08/Ticket-Master-Princess-Ball.png
END:VEVENT
BEGIN:VEVENT
DTSTART;TZID=America/New_York:20260214T130000
DTEND;TZID=America/New_York:20260214T160000
DTSTAMP:20260424T181520
CREATED:20260120T201447Z
LAST-MODIFIED:20260129T145638Z
UID:17850-1771074000-1771084800@chesapeakeconference.com
SUMMARY:PINGO – Handbag Bingo
DESCRIPTION:PINGO – All proceeds will benefit Children’s Hospital of The Kings Daughters
URL:https://chesapeakeconference.com/event/pingo-handbag-bingo/
CATEGORIES:Public,Special Group
ATTACH;FMTTYPE=image/jpeg:https://chesapeakeconference.com/wp-content/uploads/2026/01/Pingo-Event-2026.jpg
END:VEVENT
BEGIN:VEVENT
DTSTART;TZID=America/New_York:20260211T113000
DTEND;TZID=America/New_York:20260211T130000
DTSTAMP:20260424T181520
CREATED:20260108T172601Z
LAST-MODIFIED:20260108T172601Z
UID:17817-1770809400-1770814800@chesapeakeconference.com
SUMMARY:Chesapeake Rotary
DESCRIPTION:Speaker – Eric Skeeter. Topic – Empathy and Soft Skills
URL:https://chesapeakeconference.com/event/chesapeake-rotary-183/
CATEGORIES:Special Group
ATTACH;FMTTYPE=image/png:https://chesapeakeconference.com/wp-content/uploads/2025/07/Rotary-Logo-Simplified.png
END:VEVENT
BEGIN:VEVENT
DTSTART;TZID=America/New_York:20260211T083000
DTEND;TZID=America/New_York:20260211T143000
DTSTAMP:20260424T181520
CREATED:20260204T190103Z
LAST-MODIFIED:20260204T190103Z
UID:17892-1770798600-1770820200@chesapeakeconference.com
SUMMARY:Private
DESCRIPTION:
URL:https://chesapeakeconference.com/event/private-88/
CATEGORIES:Private
END:VEVENT
BEGIN:VEVENT
DTSTART;TZID=America/New_York:20260210T050000
DTEND;TZID=America/New_York:20260210T140000
DTSTAMP:20260424T181520
CREATED:20260204T190005Z
LAST-MODIFIED:20260204T190005Z
UID:17890-1770699600-1770732000@chesapeakeconference.com
SUMMARY:Private
DESCRIPTION:
URL:https://chesapeakeconference.com/event/private-87/
CATEGORIES:Private
END:VEVENT
BEGIN:VEVENT
DTSTART;TZID=America/New_York:20260209T110000
DTEND;TZID=America/New_York:20260209T140000
DTSTAMP:20260424T181520
CREATED:20260204T185841Z
LAST-MODIFIED:20260204T185858Z
UID:17888-1770634800-1770645600@chesapeakeconference.com
SUMMARY:Chesapeake Sports Club
DESCRIPTION:
URL:https://chesapeakeconference.com/event/chesapeake-sports-club-48/
CATEGORIES:Special Group
ATTACH;FMTTYPE=image/jpeg:https://chesapeakeconference.com/wp-content/uploads/2022/04/Ches-Sports-Club-Pic.jpg
END:VEVENT
BEGIN:VEVENT
DTSTART;TZID=America/New_York:20260207T173000
DTEND;TZID=America/New_York:20260207T213000
DTSTAMP:20260424T181520
CREATED:20260204T185719Z
LAST-MODIFIED:20260204T185719Z
UID:17886-1770485400-1770499800@chesapeakeconference.com
SUMMARY:Private
DESCRIPTION:
URL:https://chesapeakeconference.com/event/private-86/
CATEGORIES:Private
END:VEVENT
BEGIN:VEVENT
DTSTART;TZID=America/New_York:20260207T100000
DTEND;TZID=America/New_York:20260207T150000
DTSTAMP:20260424T181520
CREATED:20260204T185630Z
LAST-MODIFIED:20260204T185630Z
UID:17884-1770458400-1770476400@chesapeakeconference.com
SUMMARY:Private
DESCRIPTION:
URL:https://chesapeakeconference.com/event/private-85/
CATEGORIES:Private
END:VEVENT
BEGIN:VEVENT
DTSTART;TZID=America/New_York:20260207T080000
DTEND;TZID=America/New_York:20260207T123000
DTSTAMP:20260424T181520
CREATED:20260204T185539Z
LAST-MODIFIED:20260204T185539Z
UID:17882-1770451200-1770467400@chesapeakeconference.com
SUMMARY:Private
DESCRIPTION:
URL:https://chesapeakeconference.com/event/private-84/
CATEGORIES:Private
END:VEVENT
BEGIN:VEVENT
DTSTART;TZID=America/New_York:20260206T113000
DTEND;TZID=America/New_York:20260206T170000
DTSTAMP:20260424T181520
CREATED:20260204T185401Z
LAST-MODIFIED:20260204T185401Z
UID:17880-1770377400-1770397200@chesapeakeconference.com
SUMMARY:Private
DESCRIPTION:
URL:https://chesapeakeconference.com/event/private-83/
CATEGORIES:Private
END:VEVENT
BEGIN:VEVENT
DTSTART;TZID=America/New_York:20260206T080000
DTEND;TZID=America/New_York:20260206T170000
DTSTAMP:20260424T181520
CREATED:20260204T185034Z
LAST-MODIFIED:20260204T185034Z
UID:17878-1770364800-1770397200@chesapeakeconference.com
SUMMARY:Virginia Virtual Academy Student Testing
DESCRIPTION:
URL:https://chesapeakeconference.com/event/virginia-virtual-academy-student-testing-20/
CATEGORIES:Special Group
END:VEVENT
BEGIN:VEVENT
DTSTART;TZID=America/New_York:20260204T113000
DTEND;TZID=America/New_York:20260204T130000
DTSTAMP:20260424T181520
CREATED:20260108T172050Z
LAST-MODIFIED:20260108T172050Z
UID:17815-1770204600-1770210000@chesapeakeconference.com
SUMMARY:Chesapeake Rotary
DESCRIPTION:
URL:https://chesapeakeconference.com/event/chesapeake-rotary-182/
CATEGORIES:Special Group
ATTACH;FMTTYPE=image/png:https://chesapeakeconference.com/wp-content/uploads/2025/07/Rotary-Logo-Simplified.png
END:VEVENT
BEGIN:VEVENT
DTSTART;TZID=America/New_York:20260203T080000
DTEND;TZID=America/New_York:20260203T170000
DTSTAMP:20260424T181520
CREATED:20251229T155913Z
LAST-MODIFIED:20260122T151406Z
UID:17797-1770105600-1770138000@chesapeakeconference.com
SUMMARY:Virginia Virtual Academy Student Testing
DESCRIPTION:
URL:https://chesapeakeconference.com/event/virginia-virtual-academy-student-testing-16/
CATEGORIES:Special Group
END:VEVENT
BEGIN:VEVENT
DTSTART;TZID=America/New_York:20260202T080000
DTEND;TZID=America/New_York:20260202T170000
DTSTAMP:20260424T181520
CREATED:20251229T153848Z
LAST-MODIFIED:20260122T151324Z
UID:17794-1770019200-1770051600@chesapeakeconference.com
SUMMARY:Virginia Virtual Academy Student Testing
DESCRIPTION:
URL:https://chesapeakeconference.com/event/virginia-virtual-academy-student-testing-15/
CATEGORIES:Special Group
END:VEVENT
BEGIN:VEVENT
DTSTART;TZID=America/New_York:20260131T110000
DTEND;TZID=America/New_York:20260131T180000
DTSTAMP:20260424T181520
CREATED:20260120T201906Z
LAST-MODIFIED:20260129T173503Z
UID:17854-1769857200-1769882400@chesapeakeconference.com
SUMMARY:Open Mic\, New Year\, Pages Rescheduled Date TBD
DESCRIPTION:
URL:https://chesapeakeconference.com/event/open-mic-new-year-pages/
CATEGORIES:Public,Special Group
ATTACH;FMTTYPE=image/png:https://chesapeakeconference.com/wp-content/uploads/2026/01/1000026928.png
END:VEVENT
BEGIN:VEVENT
DTSTART;TZID=America/New_York:20260130T080000
DTEND;TZID=America/New_York:20260130T170000
DTSTAMP:20260424T181520
CREATED:20251229T160256Z
LAST-MODIFIED:20251229T160256Z
UID:17804-1769760000-1769792400@chesapeakeconference.com
SUMMARY:Virginia Virtual Academy Student Testing
DESCRIPTION:
URL:https://chesapeakeconference.com/event/virginia-virtual-academy-student-testing-19/
CATEGORIES:Special Group
END:VEVENT
BEGIN:VEVENT
DTSTART;TZID=America/New_York:20260129T113000
DTEND;TZID=America/New_York:20260129T140000
DTSTAMP:20260424T181520
CREATED:20251229T160906Z
LAST-MODIFIED:20251229T160906Z
UID:17806-1769686200-1769695200@chesapeakeconference.com
SUMMARY:Elizabeth River Project’s Annual River Star Business Recognition Luncheon
DESCRIPTION:
URL:https://chesapeakeconference.com/event/elizabeth-river-projects-annual-river-star-business-recognition-luncheon/
CATEGORIES:Special Group
ATTACH;FMTTYPE=image/jpeg:https://chesapeakeconference.com/wp-content/uploads/2025/12/ERP-profile-logo.jpg
END:VEVENT
BEGIN:VEVENT
DTSTART;TZID=America/New_York:20260129T080000
DTEND;TZID=America/New_York:20260129T170000
DTSTAMP:20260424T181520
CREATED:20251229T160039Z
LAST-MODIFIED:20251229T160039Z
UID:17799-1769673600-1769706000@chesapeakeconference.com
SUMMARY:Virginia Virtual Academy Student Testing
DESCRIPTION:
URL:https://chesapeakeconference.com/event/virginia-virtual-academy-student-testing-18/
CATEGORIES:Special Group
END:VEVENT
BEGIN:VEVENT
DTSTART;TZID=America/New_York:20260128T113000
DTEND;TZID=America/New_York:20260128T133000
DTSTAMP:20260424T181520
CREATED:20251229T151800Z
LAST-MODIFIED:20251229T151800Z
UID:17785-1769599800-1769607000@chesapeakeconference.com
SUMMARY:Chesapeake Rotary
DESCRIPTION:Guest Speaker: Melody Beck – Recreation Coordinator Therapeutic Recreation PRT
URL:https://chesapeakeconference.com/event/chesapeake-rotary-181/
CATEGORIES:Special Group
ATTACH;FMTTYPE=image/png:https://chesapeakeconference.com/wp-content/uploads/2025/07/Rotary-Logo-Simplified.png
END:VEVENT
BEGIN:VEVENT
DTSTART;TZID=America/New_York:20260128T080000
DTEND;TZID=America/New_York:20260128T170000
DTSTAMP:20260424T181520
CREATED:20251229T155958Z
LAST-MODIFIED:20251229T155958Z
UID:17798-1769587200-1769619600@chesapeakeconference.com
SUMMARY:Virginia Virtual Academy Student Testing
DESCRIPTION:
URL:https://chesapeakeconference.com/event/virginia-virtual-academy-student-testing-17/
CATEGORIES:Special Group
END:VEVENT
BEGIN:VEVENT
DTSTART;TZID=America/New_York:20260128T080000
DTEND;TZID=America/New_York:20260128T160000
DTSTAMP:20260424T181520
CREATED:20251229T161033Z
LAST-MODIFIED:20251229T161033Z
UID:17809-1769587200-1769616000@chesapeakeconference.com
SUMMARY:Private Event – City of Chesapeake
DESCRIPTION:
URL:https://chesapeakeconference.com/event/private-event-city-of-chesapeake/
CATEGORIES:Private
END:VEVENT
BEGIN:VEVENT
DTSTART;TZID=America/New_York:20260124T170000
DTEND;TZID=America/New_York:20260124T233000
DTSTAMP:20260424T181520
CREATED:20251229T153612Z
LAST-MODIFIED:20251229T153612Z
UID:17792-1769274000-1769297400@chesapeakeconference.com
SUMMARY:Chesapeake Regional Health Foundation Gala
DESCRIPTION:
URL:https://chesapeakeconference.com/event/chesapeake-regional-health-foundation-gala-2/
CATEGORIES:Special Group
END:VEVENT
BEGIN:VEVENT
DTSTART;TZID=America/New_York:20260122T180000
DTEND;TZID=America/New_York:20260122T220000
DTSTAMP:20260424T181520
CREATED:20251229T152803Z
LAST-MODIFIED:20251229T152803Z
UID:17790-1769104800-1769119200@chesapeakeconference.com
SUMMARY:Private Event
DESCRIPTION:
URL:https://chesapeakeconference.com/event/private-event-420/
CATEGORIES:Private
END:VEVENT
BEGIN:VEVENT
DTSTART;TZID=America/New_York:20260121T113000
DTEND;TZID=America/New_York:20260121T133000
DTSTAMP:20260424T181520
CREATED:20251229T151540Z
LAST-MODIFIED:20251229T151540Z
UID:17784-1768995000-1769002200@chesapeakeconference.com
SUMMARY:Chesapeake Rotary
DESCRIPTION:Guest Speaker: John V. Quarstein – Director Emeritus USS Monitor Center\, The Mariners’ Museum and Park
URL:https://chesapeakeconference.com/event/chesapeake-rotary-180/
CATEGORIES:Special Group
ATTACH;FMTTYPE=image/png:https://chesapeakeconference.com/wp-content/uploads/2025/07/Rotary-Logo-Simplified.png
END:VEVENT
BEGIN:VEVENT
DTSTART;TZID=America/New_York:20260119T090000
DTEND;TZID=America/New_York:20260119T140000
DTSTAMP:20260424T181520
CREATED:20260115T202931Z
LAST-MODIFIED:20260115T202931Z
UID:17842-1768813200-1768831200@chesapeakeconference.com
SUMMARY:Private Event
DESCRIPTION:
URL:https://chesapeakeconference.com/event/private-event-421/
CATEGORIES:Private
END:VEVENT
BEGIN:VEVENT
DTSTART;VALUE=DATE:20260119
DTEND;VALUE=DATE:20260120
DTSTAMP:20260424T181520
CREATED:20260115T202804Z
LAST-MODIFIED:20260115T202804Z
UID:17840-1768780800-1768867199@chesapeakeconference.com
SUMMARY:Martin Luther King Jr. Day
DESCRIPTION:
URL:https://chesapeakeconference.com/event/martin-luther-king-jr-day/
END:VEVENT
END:VCALENDAR